BEGIN:VCALENDAR
VERSION:2.0
PRODID:-//ChamberMaster//Event Calendar 2.0//EN
METHOD:PUBLISH
X-PUBLISHED-TTL:P3D
REFRESH-INTERVAL:P3D
CALSCALE:GREGORIAN
BEGIN:VEVENT
DTSTART:20160113T153000Z
DTEND:20160114T000000Z
X-MICROSOFT-CDO-ALLDAYEVENT:FALSE
SUMMARY:Adult Mental Health First Aid Class
DESCRIPTION:Mental Health First Aid is an innovative\, 8-hour course designed to give you the tools to recognize a range of mental health problems and the skills and confidence to help someone in a mental health crisis. The program provides a concrete action plan to help someone in crisis connect with appropriate professional\, peer\, and self-help care.\n\nClass Date: Wednesday\, January 13th\n\nClass Time: 8:30am - 5:00pm\n\nLocation: Clear Creek County Courthouse - Board of County Commissioners Hearing Room\, 405 Argentine St\, Georgetown\, CO 80444\n\nClass is FREE\n\nRegister at www.mhfajcmh.org\n\nFor more information\, visit www.mhfajcmh.org or contact Julie DiTullio at 303-432-5644 or julied@jcmh.org
X-ALT-DESC;FMTTYPE=text/html:<p><strong><span style="color:rgb(51\, 51\, 51)\; font-family:georgia\,serif">Mental Health First Aid</span></strong><span style="color:rgb(51\, 51\, 51)\; font-family:georgia\,serif"> is an innovative\, 8-hour course designed to give you the tools to recognize a range of mental health problems and the skills and confidence to help someone in a mental health crisis. The program provides a concrete action plan to help someone in crisis connect with appropriate professional\, peer\, and self-help care.</span></p>\n\n<p><span style="color:rgb(51\, 51\, 51)\; font-family:georgia\,serif">Class Date: Wednesday\, January 13th</span></p>\n\n<p><span style="color:rgb(51\, 51\, 51)\; font-family:georgia\,serif">Class Time: 8:30am - 5:00pm</span></p>\n\n<p><span style="color:rgb(51\, 51\, 51)\; font-family:georgia\,serif">Location: Clear Creek County Courthouse - Board of County Commissioners Hearing Room\, 405 Argentine St\, Georgetown\, CO 80444</span></p>\n\n<p><span style="color:rgb(51\, 51\, 51)\; font-family:georgia\,serif">Class is FREE</span></p>\n\n<p><span style="color:rgb(51\, 51\, 51)\; font-family:georgia\,serif">Register at www.mhfajcmh.org</span></p>\n\n<p><span style="color:rgb(51\, 51\, 51)\; font-family:georgia\,serif">For more information\, visit www.mhfajcmh.org or contact Julie DiTullio at 303-432-5644 or julied@jcmh.org</span></p>\n
LOCATION:Clear Creek County Courthouse - Board of County Commissioners Hearing Room\, 405 Argentine St\, Georgetown\, CO 80444
UID:e.692.16415
SEQUENCE:3
DTSTAMP:20260422T041547Z
URL:https://business.goconifer.com/events/details/adult-mental-health-first-aid-class-01-13-2016-16415
END:VEVENT

END:VCALENDAR
