BEGIN:VCALENDAR
VERSION:2.0
PRODID:-//ChamberMaster//Event Calendar 2.0//EN
METHOD:PUBLISH
X-PUBLISHED-TTL:P3D
REFRESH-INTERVAL:P3D
CALSCALE:GREGORIAN
BEGIN:VEVENT
DTSTART;VALUE=DATE:20141018
DTEND;VALUE=DATE:20141019
TRANSP:TRANSPARENT
X-MICROSOFT-CDO-ALLDAYEVENT:TRUE
SUMMARY:A Taste of The Foothills
DESCRIPTION:A Taste of the Foothills\n\nA benefit for PeaceWorks\, Inc. and the Mountain Peace Shelter\n\n \n\nJoin us for the first annual A Taste of the Foothills \n\nfundraiser for PeaceWorks\, Inc.\n\n10 a.m. - 4 p.m. Saturday\, October 18\n\nThe Barn at Evergreen Memorial Park\, \n\n 26624 N. Turkey Creek Rd.\, Evergreen\n\n\n\nVendor booths:  $50 - $150.  Admission:  $5\n\n\n\nFor information\, contact Janet Shown at 303-838-7176 or janet@mountainpeace.org
X-ALT-DESC;FMTTYPE=text/html:<h1 style="text-align: center\;"><em><span style="font-family:times new roman\;"><strong>A Taste of the Foothills</strong></span></em><br />\n<strong style="font-family: 'times new roman'\; font-size: 14px\;">A benefit for PeaceWorks\, Inc. and the Mountain Peace Shelter</strong></h1>\n\n<p>&nbsp\;</p>\n\n<p style="text-align: center\;"><span style="font-size:12px\;"><span style="font-family:times new roman\;"><span style="font-size:14px\;">Join us for the first annual <strong><em>A Taste of the Foothills </em></strong><br />\nfundraiser for PeaceWorks\, Inc.</span><br />\n<span style="font-size:14px\;"><span style="font-size:16px\;"><strong>10 a.m. - 4 p.m. Saturday\, October 18</strong></span><br />\nThe Barn at Evergreen Memorial Park\,&nbsp\;</span></span></span><br />\n<span style="font-family: 'times new roman'\;"><span style="font-size:14px\;">&nbsp\;26624 N. Turkey Creek Rd.\, Evergreen</span><br />\n<br />\n<span style="font-size:16px\;"><strong>Vendor booths: &nbsp\;$50 - $150. &nbsp\;Admission: &nbsp\;$5</strong></span><br />\n<br />\nFor information\, contact Janet Shown at 303-838-7176 or janet@mountainpeace.org</span></p>\n
LOCATION:The Barn at Evergreen Memorial Park\, 26624 N. Turkey Creek Rd.\, Evergreen
UID:e.692.2934
SEQUENCE:3
DTSTAMP:20260423T062530Z
URL:https://business.goconifer.com/events/details/a-taste-of-the-foothills-10-18-2014-2934
END:VEVENT

END:VCALENDAR
