BEGIN:VCALENDAR
VERSION:2.0
PRODID:-//ChamberMaster//Event Calendar 2.0//EN
METHOD:PUBLISH
X-PUBLISHED-TTL:P3D
REFRESH-INTERVAL:P3D
CALSCALE:GREGORIAN
BEGIN:VEVENT
DTSTART:20100514T000000Z
DTEND:20100514T030000Z
X-MICROSOFT-CDO-ALLDAYEVENT:FALSE
SUMMARY:A Taste of Italy
DESCRIPTION:A Taste of Italy to benifit the Mountain Peace Shelter. Please join us for homemade Italian foods at the Mountain Peace Shelter's 7th Annual "A Taste of Italy" italian dinner and silent auction fundraiser.
X-ALT-DESC;FMTTYPE=text/html:<div>A&nbsp\;Taste of Italy to benifit the Mountain Peace Shelter.</div><div>&nbsp\;</div><div>Please join us for homemade Italian foods at the Mountain Peace Shelter's 7th Annual &quot\;A&nbsp\;Taste of Italy&quot\; italian dinner and silent auction fundraiser.</div>
LOCATION:At the Platte Canyon High School\, in the Canyon Room.
UID:e.692.300
SEQUENCE:3
DTSTAMP:20260424T112339Z
URL:https://business.goconifer.com/events/details/a-taste-of-italy-05-13-2010-300
END:VEVENT

END:VCALENDAR
