BEGIN:VCALENDAR
VERSION:2.0
PRODID:-//ChamberMaster//Event Calendar 2.0//EN
METHOD:PUBLISH
X-PUBLISHED-TTL:P3D
REFRESH-INTERVAL:P3D
CALSCALE:GREGORIAN
BEGIN:VEVENT
DTSTART:20160324T010000Z
DTEND:20160324T040000Z
X-MICROSOFT-CDO-ALLDAYEVENT:FALSE
SUMMARY:A Rat Pack Purim
DESCRIPTION:It?s Purim ? a Jewish festival where fun and frivolity reign ? and so does Queen Esther\, who saved the Jews from extinction by marrying a Persian king. In honor of the holiday\, Beth Evergreen members will perform an original musical comedy\, ?A Rat Pack Purim.? The free event is set for 7 p.m. Wednesday\, March 23 at Congregation Beth Evergreen\, 2981 Bergen Peak Drive\, Evergreen\, and all are welcome to attend.\n\n \n\nThe Schpiel is set in a seedy nightclub on the Shushan Strip in the 6th century BCE. Through song\, dance and comedy\, the ?original? Rat Pack\, aka the Purim Pack\, will retell the story of Purim. \n\n \n\nJoin us for a night of laughter and learning!
X-ALT-DESC;FMTTYPE=text/html:<div style="text-align:justify">It?s Purim ? a Jewish festival where fun and frivolity reign ? and so does Queen Esther\, who saved the Jews from extinction by marrying a Persian king. In honor of the holiday\, Beth Evergreen members will perform an original musical comedy\, ?A Rat Pack Purim.? The free event is set for 7 p.m. Wednesday\, March 23 at Congregation Beth Evergreen\, 2981 Bergen Peak Drive\, Evergreen\, and all are welcome to attend.</div>\n\n<div style="text-align:justify">&nbsp\;</div>\n\n<div style="text-align:justify">The Schpiel is set in a seedy nightclub on the Shushan Strip in the 6th century BCE. Through song\, dance and comedy\, the ?original? Rat Pack\, aka the Purim Pack\, will retell the story of Purim.&nbsp\;</div>\n\n<div style="text-align:justify">&nbsp\;</div>\n\n<div style="text-align:justify">Join us for a night of laughter and learning!</div>\n
LOCATION:Congregation Beth Evergreen
UID:e.692.17156
SEQUENCE:3
DTSTAMP:20260422T023743Z
URL:https://business.goconifer.com/events/details/a-rat-pack-purim-03-23-2016-17156
END:VEVENT

END:VCALENDAR
