BEGIN:VCALENDAR
VERSION:2.0
PRODID:-//ChamberMaster//Event Calendar 2.0//EN
METHOD:PUBLISH
X-PUBLISHED-TTL:P3D
REFRESH-INTERVAL:P3D
CALSCALE:GREGORIAN
BEGIN:VEVENT
DTSTART:20260501T000000Z
DTEND:20260501T013000Z
X-MICROSOFT-CDO-ALLDAYEVENT:FALSE
SUMMARY:A Celebration of New Ministry at St. Laurence Episcopal Church
DESCRIPTION:Join  St. Laurence Episcopal Church in Conifer as we celebrate the official installation of our new priest\, the Rev. Christopher Gregorio\, as he begins his new ministry among us! All from the community are welcome!\n\n\n\nBishop Kym Lucas of the Episcopal Diocese of Colorado will preside. A reception will follow.
X-ALT-DESC;FMTTYPE=text/html:Join&nbsp\; St. Laurence Episcopal Church in Conifer as we celebrate the official installation of our new priest\, the Rev. Christopher Gregorio\, as he begins his new ministry among us! All from the community are welcome!<br />\n<br />\nBishop Kym Lucas of the Episcopal Diocese of Colorado will preside. A reception will follow.&nbsp\;
LOCATION:St. Laurence Episcopal Church 26812 Barkley Road Conifer\, CO 80433
UID:e.692.48590
SEQUENCE:3
DTSTAMP:20260423T072600Z
URL:https://business.goconifer.com/events/details/a-celebration-of-new-ministry-at-st-laurence-episcopal-church-48590
END:VEVENT

END:VCALENDAR
