BEGIN:VCALENDAR
VERSION:2.0
PRODID:-//ChamberMaster//Event Calendar 2.0//EN
METHOD:PUBLISH
X-PUBLISHED-TTL:P3D
REFRESH-INTERVAL:P3D
CALSCALE:GREGORIAN
BEGIN:VEVENT
DTSTART:20140918T220000Z
DTEND:20140919T010000Z
X-MICROSOFT-CDO-ALLDAYEVENT:FALSE
SUMMARY:5th Annual OctoBEERfest
DESCRIPTION:
X-ALT-DESC;FMTTYPE=text/html:
LOCATION:Brooks Place Tavern
UID:e.692.2936
SEQUENCE:3
DTSTAMP:20260423T073834Z
URL:https://business.goconifer.com/events/details/5th-annual-octobeerfest-09-18-2014-2936
END:VEVENT

END:VCALENDAR
