BEGIN:VCALENDAR
VERSION:2.0
PRODID:-//ChamberMaster//Event Calendar 2.0//EN
METHOD:PUBLISH
X-PUBLISHED-TTL:P3D
REFRESH-INTERVAL:P3D
CALSCALE:GREGORIAN
BEGIN:VEVENT
DTSTART;VALUE=DATE:20100522
DTEND;VALUE=DATE:20100524
TRANSP:TRANSPARENT
X-MICROSOFT-CDO-ALLDAYEVENT:TRUE
SUMMARY:5th Annual Mountain Home & Garden Show
DESCRIPTION:5th Annual Mountain Home & Garden Show to be held May 22-23 at Evergreen High School. May 22nd hours are 9:00am to 5:00pm. May 23rd hours are 10:00am to 3:00pm. This is to benefit the Conifer and Evergreen Rotaries.
X-ALT-DESC;FMTTYPE=text/html:<div>5th Annual Mountain Home &amp\;&nbsp\;Garden Show to be held May 22-23 at Evergreen High School. May 22nd hours are 9:00am to 5:00pm. May 23rd hours are 10:00am to 3:00pm. This is to benefit the Conifer and Evergreen Rotaries.</div>
LOCATION:Evergreen High School
UID:e.692.268
SEQUENCE:3
DTSTAMP:20260424T112507Z
URL:https://business.goconifer.com/events/details/5th-annual-mountain-home-garden-show-05-22-2010-268
END:VEVENT

END:VCALENDAR
