BEGIN:VCALENDAR
VERSION:2.0
PRODID:-//ChamberMaster//Event Calendar 2.0//EN
METHOD:PUBLISH
X-PUBLISHED-TTL:P3D
REFRESH-INTERVAL:P3D
CALSCALE:GREGORIAN
BEGIN:VEVENT
DTSTART:20170415T170000Z
DTEND:20170415T200000Z
X-MICROSOFT-CDO-ALLDAYEVENT:FALSE
SUMMARY:5th Annual Easter Event
DESCRIPTION:5th Annual Easter Event at Conifer Marketplace\n\nEaster Bunny & Ms. Cabbage Patch (bring your camera)\n\nFace Painting\n\nCarnival Games\n\nCrafts for Kids\n\nScavenger Hunt\n\nStore Specials
X-ALT-DESC;FMTTYPE=text/html:5th Annual Easter Event at Conifer Marketplace<br />\nEaster Bunny &amp\; Ms. Cabbage Patch (bring your camera)<br />\nFace Painting<br />\nCarnival Games<br />\nCrafts for Kids<br />\nScavenger Hunt<br />\nStore Specials&nbsp\;&nbsp\;&nbsp\;&nbsp\;
LOCATION:10853 US Highway 285 Conifer\, CO 80433
UID:e.692.21929
SEQUENCE:3
DTSTAMP:20260421T165243Z
URL:https://business.goconifer.com/events/details/5th-annual-easter-event-21929
END:VEVENT

END:VCALENDAR
