BEGIN:VCALENDAR
VERSION:2.0
PRODID:-//ChamberMaster//Event Calendar 2.0//EN
METHOD:PUBLISH
X-PUBLISHED-TTL:P3D
REFRESH-INTERVAL:P3D
CALSCALE:GREGORIAN
BEGIN:VEVENT
DTSTART:20140816T180000Z
DTEND:20140816T230000Z
X-MICROSOFT-CDO-ALLDAYEVENT:FALSE
SUMMARY:5th Annual Bootstraps Western Winefest
DESCRIPTION:The 5th Annual Bootstraps Western Winefest will feature over 20 Colorado wineries\, demonstrations\, artisan and lifestyle vendors\, entertainment\, and delicious food.\n\nThe Winefest is similar to a farmers market with vendors displaying in an outdoor space in the foothills of the Rocky Mountains at the Evergreen Rodeo Fairgrounds. In addition to free tastings from fine Colorado wineries\, the admission price includes a tasting glass\, live entertainment\, and demonstrations by local chefs and wine experts. Food\, wine by the glass\, and wine by the bottle will be available for purchase. Those purchasing bottles of wine will receive a complementary wine tote. \n\n\n\nFundraiser for Bootstraps\, Inc.\, a local nonprofit providing scholarships and interest-free loans to mountain-area youth for the purpose of higher education.
X-ALT-DESC;FMTTYPE=text/html:<span style="color: rgb(0\, 0\, 0)\; font-family: Arial\, Helvetica\, sans-serif\, 'MS Sans Serif'\; font-size: 12px\; line-height: normal\;">The 5th Annual Bootstraps Western Winefest will feature over 20 Colorado wineries\, demonstrations\, artisan and lifestyle vendors\, entertainment\, and delicious food.<br />\nThe Winefest is similar to a farmers market with vendors displaying in an outdoor space in the foothills of the Rocky Mountains at the Evergreen Rodeo Fairgrounds. In addition to free tastings from fine Colorado wineries\, the admission price includes a tasting glass\, live entertainment\, and demonstrations by local chefs and wine experts. Food\, wine by the glass\, and wine by the bottle will be available for purchase. Those purchasing bottles of wine will receive a complementary wine tote.&nbsp\;</span><br />\n<br />\nFundraiser for Bootstraps\, Inc.\, a local nonprofit providing scholarships and interest-free loans to mountain-area youth for the purpose of higher education.
LOCATION:Evergreen Rodeo Fairgrounds
UID:e.692.1533
SEQUENCE:3
DTSTAMP:20260423T091353Z
URL:https://business.goconifer.com/events/details/5th-annual-bootstraps-western-winefest-08-16-2014-1533
END:VEVENT

END:VCALENDAR
