BEGIN:VCALENDAR
VERSION:2.0
PRODID:-//ChamberMaster//Event Calendar 2.0//EN
METHOD:PUBLISH
X-PUBLISHED-TTL:P3D
REFRESH-INTERVAL:P3D
CALSCALE:GREGORIAN
BEGIN:VEVENT
DTSTART:20141012T230000Z
DTEND:20141013T013000Z
X-MICROSOFT-CDO-ALLDAYEVENT:FALSE
SUMMARY:40th Anniversary Concert & Dinner Reception at Congregation Beth Evergreen
DESCRIPTION:40th Anniversary Concert featuring Hal Aqua\, Steve Brodsky\, Rabbi Jamie Arnold & Rabbi-Cantor Robbi Sherwin. Sunday\, October 12 at 5PM followed by Middle-Eastern Dinner Reception. Free & Open to the Community! RSVP please to ensure adequate seating and food!
X-ALT-DESC;FMTTYPE=text/html:40th Anniversary Concert featuring Hal Aqua\, Steve Brodsky\, Rabbi Jamie Arnold &amp\; Rabbi-Cantor Robbi Sherwin. Sunday\, October 12 at 5PM followed by Middle-Eastern Dinner Reception. Free &amp\; Open to the Community! RSVP please to ensure adequate seating and food!
LOCATION:Congregation Beth Evergreen 2981 Bergen Peak Drive Evergreen\, CO 80439 (behind Life Care Center)
UID:e.692.3402
SEQUENCE:3
DTSTAMP:20260423T062037Z
URL:https://business.goconifer.com/events/details/40th-anniversary-concert-dinner-reception-at-congregation-beth-evergreen-10-12-2014-3402
END:VEVENT

END:VCALENDAR
