BEGIN:VCALENDAR
VERSION:2.0
PRODID:-//ChamberMaster//Event Calendar 2.0//EN
METHOD:PUBLISH
X-PUBLISHED-TTL:P3D
REFRESH-INTERVAL:P3D
CALSCALE:GREGORIAN
BEGIN:VEVENT
DTSTART:20160212T010000Z
DTEND:20160212T023000Z
X-MICROSOFT-CDO-ALLDAYEVENT:FALSE
SUMMARY:401k and IRA do's and don'ts
DESCRIPTION:Topics include:  is your 401k/IRA in the right investment\, taxes and fees\, don't get eaten alive\, conversions\, rollovers\, and contributions.  These unique classes are based on academic and government research.   Taught by Certified Financial Planner  Jo-Ann Holst.  There is no cost to attend and nothing will be sold.  RSVP 720-287-5880
X-ALT-DESC;FMTTYPE=text/html:<span style="font-size:medium"><span style="font-family:calibri">Topics include:&nbsp\; is your 401k/IRA in the right investment\, taxes and fees\, don&rsquo\;t get eaten alive\, conversions\, rollovers\, and contributions.&nbsp\; These unique classes are based on academic and government research.&nbsp\; &nbsp\;Taught by Certified Financial Planner&trade\; Jo-Ann Holst.&nbsp\; There is no cost to attend and nothing will be sold.&nbsp\; RSVP 720-287-5880</span></span><br />\n&nbsp\;
LOCATION:1st Bank Building in Belmar\, 550 S. Wadsworth\, Lakewood 80226
UID:e.692.17049
SEQUENCE:3
DTSTAMP:20260422T042959Z
URL:https://business.goconifer.com/events/details/401k-and-ira-do-s-and-don-ts-02-11-2016-17049
END:VEVENT

END:VCALENDAR
