BEGIN:VCALENDAR
VERSION:2.0
PRODID:-//ChamberMaster//Event Calendar 2.0//EN
METHOD:PUBLISH
X-PUBLISHED-TTL:P3D
REFRESH-INTERVAL:P3D
CALSCALE:GREGORIAN
BEGIN:VEVENT
DTSTART:20180811T170000Z
DTEND:20180811T200000Z
X-MICROSOFT-CDO-ALLDAYEVENT:FALSE
SUMMARY:3rd Annual Mark Madsen Accessibility Celebration & BBQ Fundraiser
DESCRIPTION:Mark Madsen loved the Colorado outdoors and grew up spending countless hours hiking and biking with his sons in the area of what is now Staunton State Park. One night in April 2001\, Mark rolled his car when he swerved to avoid hitting a deer. As a result of this devastating accident\, Mark was left a quadriplegic\, paralyzed from the neck down. In spite of his disability\, Mark continued to spend time at his mountain cabin by Lions Head whenever he could.\n\n\n\nIn the summer of 2014\, the year after Staunton State Park officially opened\, Mark was again able to enjoy many of his favorite places with the help of a track chair borrowed from Craig Hospital. Sadly\, Mark passed away in his cabin on August 10\, 2015.\n\n\n\nWith the support of the Madsen family\, Friends of Staunton State Park has established the Mark Madsen Accessibility Fund to help make the park accessible for persons with disabilities. So far enough funds have been raised to purchase three $13\,000 track chairs\, enabling over 150 visitors with disabilities to "hike" Staunton State Park with friends and family in 2017 and 2018.\n\n\n\nJoin us for a fundraising BBQ on August 11\, 2018 where all proceeds will go to support the Staunton Track-Chair Program\, ensuring access for all to the great outdoors! If you can't make it to the BBQ but would like to help support the program\, you may donate online through our secure website here: http://www.friendsofstauntonstatepark.org/event-mark-madsen-accessibility-day or by mailing a check to the Friends of Staunton State Park\, PO Box 695\, Pine CO 80470 and be sure to make a note that it's for the Mark Madsen Accessibility Celebration Fundraiser/Staunton Track Chair Program. Thank you so very much!\n\n\n\nTo learn more about Mark and his amazing life\, visit his website http://www.midnightsunburstmusic.com/ or view the video of his last concert http://www.youtube.com/watch?v=mU7zVm9QnFU
X-ALT-DESC;FMTTYPE=text/html:Mark Madsen loved the Colorado outdoors and grew up spending countless hours hiking and biking with his sons in the area of what is now Staunton State Park. One night in April 2001\, Mark rolled his car when he swerved to avoid hitting a deer. As a result of this devastating accident\, Mark was left a quadriplegic\, paralyzed from the neck down. In spite of his disability\, Mark continued to spend time at his mountain cabin by Lions Head whenever he could.<br />\n<br />\nIn the summer of 2014\, the year after Staunton State Park officially opened\, Mark was again able to enjoy many of his favorite places with the help of a track chair borrowed from Craig Hospital. Sadly\, Mark passed away in his cabin on August 10\, 2015.<br />\n<br />\nWith the support of the Madsen family\, Friends of Staunton State Park has established the Mark Madsen Accessibility Fund to help make the park accessible for persons with disabilities. So far enough funds have been raised to purchase three $13\,000 track chairs\, enabling over 150 visitors with disabilities to &quot\;hike&quot\; Staunton State Park with friends and family in 2017 and 2018.<br />\n<br />\nJoin us for a fundraising BBQ on August 11\, 2018 where all proceeds will go to support the Staunton Track-Chair Program\, ensuring access for all to the great outdoors! If you can&#39\;t make it to the BBQ but would like to help support the program\, you may donate online through our secure website here: http://www.friendsofstauntonstatepark.org/event-mark-madsen-accessibility-day or by mailing a check to the Friends of Staunton State Park\, PO Box 695\, Pine CO 80470 and be sure to make a note that it&#39\;s for the Mark Madsen Accessibility Celebration Fundraiser/Staunton Track Chair Program. Thank you so very much!<br />\n<br />\nTo learn more about Mark and his amazing life\, visit his website http://www.midnightsunburstmusic.com/ or view the video of his last concert http://www.youtube.com/watch?v=mU7zVm9QnFU
LOCATION:Staunton State Park\, 12102 S. Elk Creek Rd\, Pine CO 80470
UID:e.692.26453
SEQUENCE:3
DTSTAMP:20260421T092603Z
URL:https://business.goconifer.com/events/details/3rd-annual-mark-madsen-accessibility-celebration-bbq-fundraiser-26453
END:VEVENT

END:VCALENDAR
