BEGIN:VCALENDAR
VERSION:2.0
PRODID:-//ChamberMaster//Event Calendar 2.0//EN
METHOD:PUBLISH
X-PUBLISHED-TTL:P3D
REFRESH-INTERVAL:P3D
CALSCALE:GREGORIAN
BEGIN:VEVENT
DTSTART:20141129T233000Z
DTEND:20141130T003000Z
X-MICROSOFT-CDO-ALLDAYEVENT:FALSE
SUMMARY:3rd Annual Community Christmas Tree Lighting
DESCRIPTION:Kick off your holiday season with your friends & neighbors!\n\nConifer Community Church will light our Community Tree and begin the holiday festivities with their annual light show extravangaza!\n\n(Lighting provided by Impact Christmas Lighting)
X-ALT-DESC;FMTTYPE=text/html:Kick off your holiday season with your friends &amp\; neighbors!<br />\nConifer Community Church will light our Community Tree and begin the holiday festivities with their annual light show extravangaza!<br />\n(Lighting provided by Impact Christmas Lighting)
LOCATION:Conifer Community Church 9998 S Havekost Rd\, Conifer
UID:e.692.6240
SEQUENCE:3
DTSTAMP:20260423T061941Z
URL:https://business.goconifer.com/events/details/3rd-annual-community-christmas-tree-lighting-11-29-2014-6240
END:VEVENT

END:VCALENDAR
