BEGIN:VCALENDAR
VERSION:2.0
PRODID:-//ChamberMaster//Event Calendar 2.0//EN
METHOD:PUBLISH
X-PUBLISHED-TTL:P3D
REFRESH-INTERVAL:P3D
CALSCALE:GREGORIAN
BEGIN:VEVENT
DTSTART:20130209T150000Z
DTEND:20130210T050000Z
X-MICROSOFT-CDO-ALLDAYEVENT:FALSE
SUMMARY:2nd Annual Winter Festival at Evergreen Lake
DESCRIPTION:Evergreen Park & Recreation District (EPRD) presents the 2nd Annual Winter Festival at Evergreen Lake\, the Denver metro area's premier winter sports and fun extravaganza\, brought to you by Never Summer. Amateur and pro skiers\, snowboarders and mountain bikers compete on and around Evergreen Lake. The all-day\, family-friendly festival also features afternoon Fun Time\, an ice fishing derby\, snowman walk\, snow slide\, sleigh rides\, music\, food and drink -- and closes with a thrilling nighttime fireworks display over the lake.
X-ALT-DESC;FMTTYPE=text/html:<style type="text/css">\n<!--{cke_protected}{C}%3C!%2D%2D%0A%20%2F*%20Font%20Definitions%20*%2F%0A%40font-face%0A%09%7Bfont-family%3ACambria%3B%0A%09panose-1%3A2%204%205%203%205%204%206%203%202%204%3B%0A%09mso-font-charset%3A0%3B%0A%09mso-generic-font-family%3Aauto%3B%0A%09mso-font-pitch%3Avariable%3B%0A%09mso-font-signature%3A3%200%200%200%201%200%3B%7D%0A%20%2F*%20Style%20Definitions%20*%2F%0Ap.MsoNormal%2C%20li.MsoNormal%2C%20div.MsoNormal%0A%09%7Bmso-style-parent%3A%22%22%3B%0A%09margin%3A0in%3B%0A%09margin-bottom%3A.0001pt%3B%0A%09mso-pagination%3Awidow-orphan%3B%0A%09font-size%3A12.0pt%3B%0A%09font-family%3A%22Times%20New%20Roman%22%3B%0A%09mso-ascii-font-family%3ACambria%3B%0A%09mso-ascii-theme-font%3Aminor-latin%3B%0A%09mso-fareast-font-family%3ACambria%3B%0A%09mso-fareast-theme-font%3Aminor-latin%3B%0A%09mso-hansi-font-family%3ACambria%3B%0A%09mso-hansi-theme-font%3Aminor-latin%3B%0A%09mso-bidi-font-family%3A%22Times%20New%20Roman%22%3B%0A%09mso-bidi-theme-font%3Aminor-bidi%3B%7D%0A%40page%20Section1%0A%09%7Bsize%3A8.5in%2011.0in%3B%0A%09margin%3A1.0in%201.25in%201.0in%201.25in%3B%0A%09mso-header-margin%3A.5in%3B%0A%09mso-footer-margin%3A.5in%3B%0A%09mso-paper-source%3A0%3B%7D%0Adiv.Section1%0A%09%7Bpage%3ASection1%3B%7D%0A%2D%2D%3E--></style>\n<p class="MsoNormal">\n	<span style="font-family: &quot\;times new roman&quot\;\; font-size: 11pt\; mso-bidi-font-size: 12.0pt\;">Evergreen Park &amp\; Recreation District (EPRD) presents the 2<sup>nd</sup> Annual Winter Festival at Evergreen Lake\, the Denver metro area&rsquo\;s premier winter sports and fun extravaganza\, brought to you by Never Summer. Amateur and pro skiers\, snowboarders and mountain bikers compete on and around Evergreen Lake. The all-day\, family-friendly festival also features afternoon Fun Time\, an ice fishing derby\, snowman walk\, snow slide\, sleigh rides\, music\, food and drink -- and closes with a thrilling nighttime fireworks display over the lake.</span></p>\n
LOCATION:Evergreen Lake House\, 29612 Upper Bear Creek Rd.\, Evergreen\, CO MAP link: http://bit.ly/VAU3Uw
UID:e.692.1401
SEQUENCE:3
DTSTAMP:20260424T114722Z
URL:https://business.goconifer.com/events/details/2nd-annual-winter-festival-at-evergreen-lake-02-09-2013-1401
END:VEVENT

END:VCALENDAR
