BEGIN:VCALENDAR
VERSION:2.0
PRODID:-//ChamberMaster//Event Calendar 2.0//EN
METHOD:PUBLISH
X-PUBLISHED-TTL:P3D
REFRESH-INTERVAL:P3D
CALSCALE:GREGORIAN
BEGIN:VEVENT
DTSTART:20140724T160000Z
DTEND:20140729T000000Z
X-MICROSOFT-CDO-ALLDAYEVENT:FALSE
SUMMARY:2nd Annual Christmas in July Kameleon Trunk Sale
DESCRIPTION:Second Annual Christmas In July - Kameleon Trunk Sale!\n\n	20% off sterling silver settings.\n	Buy 2 Pops\, get three loyalty stamps.  \n\nCome in and check out the great selection of new settings and pops.  Great for gift giving and treating yourself within a budget!
X-ALT-DESC;FMTTYPE=text/html:Second Annual Christmas In July - Kameleon Trunk Sale!\n<ul>\n	<li>20% off sterling silver settings.</li>\n	<li>Buy 2 Pops\, get three loyalty stamps. &nbsp\;</li>\n</ul>\nCome in and check out the great selection of new settings and pops. &nbsp\;Great for gift giving and treating yourself within a budget!
LOCATION:Look What I Found Boutique\, 25797 Conifer Road\, Suite B217\, Conifer\, CO 80433
UID:e.692.3275
SEQUENCE:3
DTSTAMP:20260423T104436Z
URL:https://business.goconifer.com/events/details/2nd-annual-christmas-in-july-kameleon-trunk-sale-07-24-2014-3275
END:VEVENT

END:VCALENDAR
