BEGIN:VCALENDAR
VERSION:2.0
PRODID:-//ChamberMaster//Event Calendar 2.0//EN
METHOD:PUBLISH
X-PUBLISHED-TTL:P3D
REFRESH-INTERVAL:P3D
CALSCALE:GREGORIAN
BEGIN:VEVENT
DTSTART:20101204T200000Z
DTEND:20101204T210000Z
X-MICROSOFT-CDO-ALLDAYEVENT:FALSE
SUMMARY:28th Annual Conifer Christmas Parade
DESCRIPTION:Join us for the 28th Annual Conifer Christmas Parade!\n\n	Presented by IREA and Morse Evergreen Auto Body\n\n	Grand Marshals John Michael & Ellen Keyes\, I Love U Guys Foundation\n\n	\n\n	 OTHER ACTIVITIES ON PARADE DAY YOU DON'T WANT TO MISS!\n\n	\n\n	10a - 12:30p CHRISTMAS AT MEYER RANCH HOLIDAY TOUR\n\n	Call 303.697.0871 for reservations\n\n	\n\n	10a - 4p FREE HOLIDAY PHOTO\n\n	Coldwell Banker\, 30810 Stagecoach Blvd.\n\n	\n\n	11a - 4p  FACE PAINTING\n\n	Mountain Books 25797 Conifer Rd.\n\n	\n\n	11a - 3:30p ELF SHOPPE CRAFT & BAKE SALE\n\n	West Jefferson Elm. School\, 26501 Barkley Rd.\n\n	\n\n	11a - 12:30p TREATS\, CRAFTS & AUDUBON PRESENTATION\n\n	Conifer Kid Central Sutton Rd. next to Big O Tires\n\n	\n\n	9a - 5p LOCAL ARTISAN FAIR\n\n	KNIT KNOOK 25557 Conifer Rd (near Ravens)\n\n	\n\n	9a - 5p HUGE SALE\, FACE PAINTING\, & COLORING\n\n	Haley's Closet/Little Britches 25797 Conifer Rd.\n\n	\n\n	9a - 5p HOLIDAY TREATS & SPECIALS\n\n	Look What I Found Boutique 25797 Conifer Rd.\n\n	\n\n	10a - 6p MEET THE ARTISTS & GREAT HOLIDAY SHOPPING\n\n	All Things Considered 6947 Highway 73\, Marshdale Roundabout\n\n	\n\n	2p - 4p PICTURES WITH SANTA\n\n	Wets Jefferson Elm. School 26501 Barkley Rd.\n\n	\n\n	2:30p PARADE RIBBON CEREMONY\n\n	Raven's 25577 Conifer Rd.\n\n	\n\n	4p - 6p FREE HOT MULLED CIDER\n\n	Up the Mountain Steakhouse 27175 Main Street (by Safeway)\n\n	\n\n	4p SANTA LAND\n\n	Conifer Town Center\n\n	\n\n	 \n\n	 \n\n	\n		with additional sponsorship by\n	\n		Aspen Park Wine & Spirits\n\n		Saylor and Sons\n\n		 \n	\n		A Sante` Professional Skin Care at Conifer Mountain Medical Aesthetics\n\n		Mutual of Omaha Bank\n\n		\n\n		American Craftsman Homes\n\n		Biggie Wine & Liquors\n\n		Commonwealth Insurance\n\n		Conifer Kitchen Design\n\n		Creekside Insurance\n\n		First Bank of Aspen Park\n\n		Friends of Cheri Gerou\n\n		 Law Offices of Robert J. Potrykus\, LLC \n\n		LCI Signs and Ironworks\n\n		Rocky Mountain Computer Services\, LLC\n\n		Starfish Advertising\n\n		The Deli at Evergreen South\n\n		The Preserve at Pine Meadows HOA\n\n		\n\n		\n\n		 \n	\n\n	This year's theme is a Conifer Victorian Christmas Celebration.\n\n	\n\n	Contact Dawn Smith for parade entry and sponsorship information.
X-ALT-DESC;FMTTYPE=text/html:<p style="text-align: center">\n	<span style="font-size: 16px"><span style="color: #008000">Join us for the 28th Annual Conifer Christmas Parade!<br />\n	<span><font color="#008000">Presented by <strong>IREA</strong> and <strong>Morse Evergreen Auto Body<br />\n	Grand Marshals John Michael&nbsp\;&amp\; Ellen&nbsp\;Keyes\, I Love U Guys Foundation</strong></font></span></span></span><br />\n	<br />\n	&nbsp\;<span style="font-size: 16px"><strong><span style="font-size: 14px">OTHER ACTIVITIES ON PARADE DAY YOU DON&#39\;T WANT TO MISS</span>!</strong></span><br />\n	<br />\n	10a - 12:30p CHRISTMAS AT MEYER RANCH HOLIDAY TOUR<br />\n	Call 303.697.0871 for reservations<br />\n	<br />\n	10a - 4p FREE HOLIDAY PHOTO<br />\n	Coldwell Banker\, 30810 Stagecoach Blvd.<br />\n	<br />\n	11a - 4p&nbsp\; FACE PAINTING<br />\n	Mountain Books 25797 Conifer Rd.<br />\n	<br />\n	11a - 3:30p ELF SHOPPE CRAFT &amp\; BAKE SALE<br />\n	West Jefferson Elm. School\, 26501 Barkley Rd.<br />\n	<br />\n	11a - 12:30p TREATS\, CRAFTS &amp\; AUDUBON PRESENTATION<br />\n	Conifer Kid Central Sutton Rd. next to Big O Tires<br />\n	<br />\n	9a - 5p LOCAL ARTISAN FAIR<br />\n	KNIT KNOOK 25557 Conifer Rd (near Ravens)<br />\n	<br />\n	9a - 5p HUGE SALE\, FACE PAINTING\, &amp\; COLORING<br />\n	Haley&#39\;s Closet/Little Britches 25797 Conifer Rd.<br />\n	<br />\n	9a - 5p HOLIDAY TREATS &amp\; SPECIALS<br />\n	Look What I Found Boutique 25797 Conifer Rd.<br />\n	<br />\n	10a - 6p MEET THE ARTISTS &amp\; GREAT HOLIDAY SHOPPING<br />\n	All Things Considered 6947 Highway 73\, Marshdale Roundabout<br />\n	<br />\n	2p - 4p PICTURES WITH SANTA<br />\n	Wets Jefferson Elm. School 26501 Barkley Rd.<br />\n	<br />\n	2:30p PARADE RIBBON CEREMONY<br />\n	Raven&#39\;s 25577 Conifer Rd.<br />\n	<br />\n	4p - 6p FREE HOT MULLED CIDER<br />\n	Up the Mountain Steakhouse 27175 Main Street (by Safeway)<br />\n	<br />\n	4p SANTA LAND<br />\n	Conifer Town Center<br />\n	<br />\n	&nbsp\;</p>\n<p style="text-align: center">\n	&nbsp\;</p>\n<div style="text-align: center">\n	<p style="text-align: center">\n		<font color="#008000" size="3">with additional sponsorship by</font></p>\n	<p style="text-align: center">\n		<span style="font-size: 14px"><strong><font color="#008000">Aspen Park Wine &amp\; Spirits</font><br />\n		<font color="#008000">Saylor and Sons</font></strong></span><br />\n		&nbsp\;</p>\n	<p style="text-align: center">\n		<span style="font-size: 12px"><span style="font-size: 14px"><font color="#008000">A Sante` Professional Skin Care at Conifer Mountain Medical Aesthetics</font></span><br />\n		<font color="#008000"><span style="font-size: 14px">Mutual of Omaha Bank</span><br />\n		<br />\n		American Craftsman Homes<br />\n		Biggie Wine &amp\; Liquors<br />\n		Commonwealth Insurance<br />\n		<font color="#008000">Conifer Kitchen Design</font><br />\n		Creekside Insurance<br />\n		First Bank of Aspen Park<br />\n		Friends of Cheri Gerou</font></span><br />\n		&nbsp\;<span style="font-size: 12px"><font color="#008000">Law Offices of Robert J. Potrykus\, LLC&nbsp\;<br />\n		LCI Signs and Ironworks<br />\n		Rocky Mountain Computer Services\, LLC<br />\n		Starfish Advertising<br />\n		The Deli at Evergreen South<br />\n		<font color="#008000">The Preserve at Pine Meadows HOA</font></font></span><br />\n		<br />\n		<br />\n		&nbsp\;</p>\n	<br />\n	<span style="font-size: 16px"><span style="color: #008000">This year&#39\;s theme is a <em>Conifer Victorian Christmas Celebration</em>.<br />\n	<br />\n	Contact Dawn Smith for parade entry and sponsorship information.</span></span><br />\n	&nbsp\;</div>\n
LOCATION:The parade route is on Sutton Road\, starting at South Dallman Drive and ending at Wolff Street. Public Parking available at Conifer Community Church\, the RTD lot off of Conifer Road\, and in surrounding neighborhood areas. VIP Parking Pass required for the field at West Jefferson Elementary.
UID:e.692.792
SEQUENCE:3
DTSTAMP:20260424T212200Z
URL:https://business.goconifer.com/events/details/28th-annual-conifer-christmas-parade-12-04-2010-792
END:VEVENT

END:VCALENDAR
