BEGIN:VCALENDAR
VERSION:2.0
PRODID:-//ChamberMaster//Event Calendar 2.0//EN
METHOD:PUBLISH
X-PUBLISHED-TTL:P3D
REFRESH-INTERVAL:P3D
CALSCALE:GREGORIAN
BEGIN:VEVENT
DTSTART:20130222T161500Z
DTEND:20130222T163000Z
X-MICROSOFT-CDO-ALLDAYEVENT:FALSE
SUMMARY:285Bound.com Ribbon Cutting
DESCRIPTION:Please help us celebrate the opening of our new office in Conifer! We'll have donuts and goodies to give away while they last!
X-ALT-DESC;FMTTYPE=text/html:Please help us celebrate the opening of our new office in Conifer! We&#39\;ll have donuts and goodies to give away while they last!
LOCATION:25997 Conifer Rd\, Unit D5 Conifer CO 80433
UID:e.692.1421
SEQUENCE:3
DTSTAMP:20260424T101608Z
URL:https://business.goconifer.com/events/details/285bound-com-ribbon-cutting-02-22-2013-1421
END:VEVENT

END:VCALENDAR
