BEGIN:VCALENDAR
VERSION:2.0
PRODID:-//ChamberMaster//Event Calendar 2.0//EN
METHOD:PUBLISH
X-PUBLISHED-TTL:P3D
REFRESH-INTERVAL:P3D
CALSCALE:GREGORIAN
BEGIN:VEVENT
DTSTART:20200311T233500Z
DTEND:20200312T003500Z
X-MICROSOFT-CDO-ALLDAYEVENT:FALSE
SUMMARY:285 Tourism Meeting
DESCRIPTION:The 285 Tourism meeting is a combined effort between Conifer Area Chamber of Commerce and Platte Canyon Area Chamber of Commerce.
X-ALT-DESC;FMTTYPE=text/html:The 285 Tourism meeting is a combined effort between Conifer Area Chamber of Commerce and Platte Canyon Area Chamber of Commerce.&nbsp\;
LOCATION:The meeting place alternates between Conifer and Bailey. The March meeting will be held at Aspen Peak Cellars in Bailey.
UID:e.692.24086
SEQUENCE:3
DTSTAMP:20260426T033432Z
URL:https://business.goconifer.com/events/details/285-tourism-meeting-03-11-2020-24086
END:VEVENT

END:VCALENDAR
