BEGIN:VCALENDAR
VERSION:2.0
PRODID:-//ChamberMaster//Event Calendar 2.0//EN
METHOD:PUBLISH
X-PUBLISHED-TTL:P3D
REFRESH-INTERVAL:P3D
CALSCALE:GREGORIAN
BEGIN:VEVENT
DTSTART:20140626T000000Z
DTEND:20140626T010000Z
X-MICROSOFT-CDO-ALLDAYEVENT:FALSE
SUMMARY:285 Tourism Committee
DESCRIPTION:
X-ALT-DESC;FMTTYPE=text/html:
LOCATION:Conifer Area Chamber of Commerce 25997 Conifer Road\, 2nd Floor Conference Room Conifer\, CO (303) 838-5711
UID:e.692.3049
SEQUENCE:3
DTSTAMP:20260423T120516Z
URL:https://business.goconifer.com/events/details/285-tourism-committee-06-25-2014-3049
END:VEVENT

END:VCALENDAR
