BEGIN:VCALENDAR
VERSION:2.0
PRODID:-//ChamberMaster//Event Calendar 2.0//EN
METHOD:PUBLISH
X-PUBLISHED-TTL:P3D
REFRESH-INTERVAL:P3D
CALSCALE:GREGORIAN
BEGIN:VEVENT
DTSTART:20170311T160000Z
DTEND:20170311T190000Z
X-MICROSOFT-CDO-ALLDAYEVENT:FALSE
SUMMARY:2017 EPRD Summer Camp Open House
DESCRIPTION:EPRD offers a huge variety of Summer Camps for all ages\, from sports to adventure to arts to special needs. Come to a Summer Camp Open House on Saturday\, March 4\, 9 AM-noon at Wulf Rec Center.\n\n \n\nIt's essential Pre-K parents attend this Open House as we have limited spaces available.\n \n\n\n\n\nHave your questions answered in regards to all summer camps. Registration opens on this date for:\n\n \n\n  Preschool Adventure\n\n  Summer Adventure\n\n  Special Needs Adventure\n\n  Outdoor Adventure\n\n  Leader in Training\n\n  Sports Camps\n\n  All Specialty Camps including Gymnastics Specialized Camps\, Dance Camps and Sailing Camps.\n\n \n\nCamps are held in three Evergreen locations and at Beaver Ranch in Conifer.\n\n\n\nQuestions? Visit evergreenrecreation.com or email kafrench@eprd.co.
X-ALT-DESC;FMTTYPE=text/html:<div>EPRD offers a huge variety of Summer Camps for all ages\, from sports to adventure to arts to special needs. Come to a Summer Camp Open House on Saturday\, March 4\, 9 AM-noon at Wulf Rec Center.</div>\n\n<div>&nbsp\;</div>\n\n<div>It&#39\;s essential Pre-K parents attend this Open House as we have limited spaces available.</div>\n&nbsp\;\n\n<div>\n<hr /></div>\n\n<div>Have your questions answered in regards to all summer camps. Registration opens on this date for:<br />\n&nbsp\;</div>\n\n<div>&bull\; Preschool Adventure</div>\n\n<div>&bull\; Summer Adventure</div>\n\n<div>&bull\; Special Needs Adventure</div>\n\n<div>&bull\; Outdoor Adventure</div>\n\n<div>&bull\; Leader in Training</div>\n\n<div>&bull\; Sports Camps</div>\n\n<div>&bull\; All Specialty Camps including Gymnastics Specialized Camps\, Dance Camps and Sailing Camps.</div>\n\n<div>&nbsp\;</div>\n\n<div>Camps are held in three Evergreen locations and at Beaver Ranch in Conifer.<br />\n<br />\nQuestions? Visit <a href="http://www.evergreenrecreation.com">evergreenrecreation.com</a> or email kafrench@eprd.co.</div>\n
LOCATION:Wulf Rec Center 5300 S Olive Rd\, Evergreen\, Colorado 80439
UID:e.692.21760
SEQUENCE:3
DTSTAMP:20260424T002951Z
URL:https://business.goconifer.com/events/details/2017-eprd-summer-camp-open-house-21760
END:VEVENT

END:VCALENDAR
