BEGIN:VCALENDAR
VERSION:2.0
PRODID:-//ChamberMaster//Event Calendar 2.0//EN
METHOD:PUBLISH
X-PUBLISHED-TTL:P3D
REFRESH-INTERVAL:P3D
CALSCALE:GREGORIAN
BEGIN:VEVENT
DTSTART;VALUE=DATE:20130504
DTEND;VALUE=DATE:20130505
TRANSP:TRANSPARENT
X-MICROSOFT-CDO-ALLDAYEVENT:TRUE
SUMMARY:2013 BAILEY MOPS CRAFT SHOW/GARAGE SALE
DESCRIPTION:Please join us for our 5th annual BAILEY MOPS CRAFT SHOW/GARAGE SALE! This is a family-friendly event! We will have local crafters and artisans displaying their beautiful handmade items as well as a huge garage sale. This event surely has something for everyone! Please come and support our community of moms! All are welcome.
X-ALT-DESC;FMTTYPE=text/html:Please join us for our 5th annual BAILEY MOPS CRAFT SHOW/GARAGE SALE! This is a family-friendly event! We will have local crafters and artisans displaying their beautiful handmade items as well as a huge garage sale. This event surely has something for everyone! Please come and support our community of moms! All are welcome.
LOCATION:Platte Canyon Community Church
UID:e.692.1460
SEQUENCE:3
DTSTAMP:20260424T055304Z
URL:https://business.goconifer.com/events/details/2013-bailey-mops-craft-show-garage-sale-05-04-2013-1460
END:VEVENT

END:VCALENDAR
