BEGIN:VCALENDAR
VERSION:2.0
PRODID:-//ChamberMaster//Event Calendar 2.0//EN
METHOD:PUBLISH
X-PUBLISHED-TTL:P3D
REFRESH-INTERVAL:P3D
CALSCALE:GREGORIAN
BEGIN:VEVENT
DTSTART:20100728T003000Z
DTEND:20100728T023000Z
X-MICROSOFT-CDO-ALLDAYEVENT:FALSE
SUMMARY:2 Hour Handson Workshop-Linkedin and Facebook Business Pages
DESCRIPTION:Workshop on Social Media for Your Business?July 27th REGISTER today.\n\nThe Conifer Chamber of Commerce is hosting a two-hour ?Learn and Do? workshop July 27\, 2010. The session will be at the Seminar Room at Alpine Family Chiropractic in Conifer\, hosted by Dr. Randy Jacobs.\n\nLocal consultants\, Ken Gibson and Sharon Shores Gibson of Gibson Internet Marketing Consultsnts  will provide the expertise and guidance as attendees work on laptops to better understand what to do and how to do it. The two-hour session will include a marketing overview of LinkedIn\, Facebook\, Twitter\, blogs\, and YouTube video. This session will feature hands-on work on LinkedIn and Facebook business pages.\n\nAttendees will leave the session feeling more confident about their ability to use the tools\, with accounts in place\, and with a plan for further development\, to generate leads\, referrals\, power partners\, and customer engagement.\n\nFuture sessions will address Twitter\, YouTube video marketing\, and blogs. \n\nTo  Register visit: http://www.meetup.com/Denver-Social-Media-Marketing  or call Sharon 720-514-0623  Registration  and Payjment MUST be received by July 23rd.  \n\nMail payment to:  Gibson Internet Marketing Consultants\n\n15355 S. Swiss Road\n\nPine\, CO  80470
X-ALT-DESC;FMTTYPE=text/html:Workshop on Social Media for Your Business?July 27th REGISTER today.\n<br>The Conifer Chamber of Commerce is hosting a two-hour ?Learn and Do? workshop July 27\, 2010. The session will be at the Seminar Room at Alpine Family Chiropractic in Conifer\, hosted by Dr. Randy Jacobs.\n<br>Local consultants\, Ken Gibson and Sharon Shores Gibson of Gibson Internet Marketing Consultsnts  will provide the expertise and guidance as attendees work on laptops to better understand what to do and how to do it. The two-hour session will include a marketing overview of LinkedIn\, Facebook\, Twitter\, blogs\, and YouTube video. This session will feature hands-on work on LinkedIn and Facebook business pages.\n<br>Attendees will leave the session feeling more confident about their ability to use the tools\, with accounts in place\, and with a plan for further development\, to generate leads\, referrals\, power partners\, and customer engagement.\n<br>Future sessions will address Twitter\, YouTube video marketing\, and blogs. \n<br>To  Register visit: http://www.meetup.com/Denver-Social-Media-Marketing  or call Sharon 720-514-0623  Registration  and Payjment MUST be received by July 23rd.  \n<br>Mail payment to:  Gibson Internet Marketing Consultants\n<br>15355 S. Swiss Road\n<br>Pine\, CO  80470 \n<br>
LOCATION:Dr. Randy Jacobs Office Alpine Family Chiropractic 28529 Mountainview Road
UID:e.692.439
SEQUENCE:3
DTSTAMP:20260424T154136Z
URL:https://business.goconifer.com/events/details/2-hour-handson-workshop-linkedin-and-facebook-business-pages-07-27-2010-439
END:VEVENT

END:VCALENDAR
