BEGIN:VCALENDAR
VERSION:2.0
PRODID:-//ChamberMaster//Event Calendar 2.0//EN
METHOD:PUBLISH
X-PUBLISHED-TTL:P3D
REFRESH-INTERVAL:P3D
CALSCALE:GREGORIAN
BEGIN:VEVENT
DTSTART:20141122T230000Z
DTEND:20141123T030000Z
X-MICROSOFT-CDO-ALLDAYEVENT:FALSE
SUMMARY:14th Annual Holiday Wine Tasting
DESCRIPTION:
X-ALT-DESC;FMTTYPE=text/html:
LOCATION:The Barn at Memorial Park in Marshdale
UID:e.692.2935
SEQUENCE:3
DTSTAMP:20260423T044256Z
URL:https://business.goconifer.com/events/details/14th-annual-holiday-wine-tasting-11-22-2014-2935
END:VEVENT

END:VCALENDAR
